BEGIN:VCALENDAR
VERSION:2.0
PRODID:-//AmCham Paraguay - ECPv6.15.20//NONSGML v1.0//EN
CALSCALE:GREGORIAN
METHOD:PUBLISH
X-WR-CALNAME:AmCham Paraguay
X-ORIGINAL-URL:https://amcham.com.py
X-WR-CALDESC:Eventos para AmCham Paraguay
REFRESH-INTERVAL;VALUE=DURATION:PT1H
X-Robots-Tag:noindex
X-PUBLISHED-TTL:PT1H
BEGIN:VTIMEZONE
TZID:Europe/Madrid
BEGIN:DAYLIGHT
TZOFFSETFROM:+0100
TZOFFSETTO:+0200
TZNAME:CEST
DTSTART:20240331T010000
END:DAYLIGHT
BEGIN:STANDARD
TZOFFSETFROM:+0200
TZOFFSETTO:+0100
TZNAME:CET
DTSTART:20241027T010000
END:STANDARD
BEGIN:DAYLIGHT
TZOFFSETFROM:+0100
TZOFFSETTO:+0200
TZNAME:CEST
DTSTART:20250330T010000
END:DAYLIGHT
BEGIN:STANDARD
TZOFFSETFROM:+0200
TZOFFSETTO:+0100
TZNAME:CET
DTSTART:20251026T010000
END:STANDARD
BEGIN:DAYLIGHT
TZOFFSETFROM:+0100
TZOFFSETTO:+0200
TZNAME:CEST
DTSTART:20260329T010000
END:DAYLIGHT
BEGIN:STANDARD
TZOFFSETFROM:+0200
TZOFFSETTO:+0100
TZNAME:CET
DTSTART:20261025T010000
END:STANDARD
END:VTIMEZONE
BEGIN:VEVENT
DTSTART;VALUE=DATE:20250626
DTEND;VALUE=DATE:20250627
DTSTAMP:20260419T171009
CREATED:20250611T184433Z
LAST-MODIFIED:20250611T185203Z
UID:2785-1750896000-1750982399@amcham.com.py
SUMMARY:Conversatorio: Estrategia Nacional para el Fortalecimiento del Capital Humano
DESCRIPTION:INSCRÍBASE AQUÍ \n 
URL:https://amcham.com.py/evento/conversatorio-estrategia-nacional-para-el-fortalecimiento-del-capital-humano/
LOCATION:AmCham\, 25 de Mayo 2090 esq. Mayor Bullo\, Asunción\, Paraguay
CATEGORIES:Conversatorio
ATTACH;FMTTYPE=image/jpeg:https://amcham.com.py/wp-content/uploads/2025/06/GRAFICA-_-CONVERSATORIO-FORTALECIMIENTO-CAPITAL-HUMANO-scaled.jpeg
ORGANIZER;CN="AmCham":MAILTO:secretaria@pamcham.com.py
END:VEVENT
END:VCALENDAR