BEGIN:VCALENDAR
VERSION:2.0
PRODID:-//AmCham Paraguay - ECPv6.15.20//NONSGML v1.0//EN
CALSCALE:GREGORIAN
METHOD:PUBLISH
X-ORIGINAL-URL:https://amcham.com.py
X-WR-CALDESC:Eventos para AmCham Paraguay
REFRESH-INTERVAL;VALUE=DURATION:PT1H
X-Robots-Tag:noindex
X-PUBLISHED-TTL:PT1H
BEGIN:VTIMEZONE
TZID:Europe/Madrid
BEGIN:DAYLIGHT
TZOFFSETFROM:+0100
TZOFFSETTO:+0200
TZNAME:CEST
DTSTART:20240331T010000
END:DAYLIGHT
BEGIN:STANDARD
TZOFFSETFROM:+0200
TZOFFSETTO:+0100
TZNAME:CET
DTSTART:20241027T010000
END:STANDARD
BEGIN:DAYLIGHT
TZOFFSETFROM:+0100
TZOFFSETTO:+0200
TZNAME:CEST
DTSTART:20250330T010000
END:DAYLIGHT
BEGIN:STANDARD
TZOFFSETFROM:+0200
TZOFFSETTO:+0100
TZNAME:CET
DTSTART:20251026T010000
END:STANDARD
BEGIN:DAYLIGHT
TZOFFSETFROM:+0100
TZOFFSETTO:+0200
TZNAME:CEST
DTSTART:20260329T010000
END:DAYLIGHT
BEGIN:STANDARD
TZOFFSETFROM:+0200
TZOFFSETTO:+0100
TZNAME:CET
DTSTART:20261025T010000
END:STANDARD
END:VTIMEZONE
BEGIN:VEVENT
DTSTART;VALUE=DATE:20250705
DTEND;VALUE=DATE:20250706
DTSTAMP:20260419T171424
CREATED:20250520T014913Z
LAST-MODIFIED:20250701T140107Z
UID:2669-1751673600-1751759999@amcham.com.py
SUMMARY:Torneo de Golf Copa AmCham 2025
DESCRIPTION:Llevaremos a cabo una nueva edición de nuestro emblemático Torneo de Golf Copa AmCham 2025\, en el marco de las celebraciones por la Independencia de los Estados Unidos. \nA beneficio de los programas educativos de la Fundación AmCham. \nLugar\nAsunción Golf Club
URL:https://amcham.com.py/evento/torneo-de-golf-copa-amcham-2025/
LOCATION:Asunción Golf Club\, Asunción Golf Club\, Asunción\, Paraguay
CATEGORIES:Torneos
ATTACH;FMTTYPE=image/png:https://amcham.com.py/wp-content/uploads/2025/05/Captura-de-Pantalla-2025-05-19-a-las-22.51.13.png
ORGANIZER;CN="AmCham":MAILTO:secretaria@pamcham.com.py
END:VEVENT
END:VCALENDAR