BEGIN:VCALENDAR
VERSION:2.0
PRODID:-//AmCham Paraguay - ECPv6.15.20//NONSGML v1.0//EN
CALSCALE:GREGORIAN
METHOD:PUBLISH
X-WR-CALNAME:AmCham Paraguay
X-ORIGINAL-URL:https://amcham.com.py
X-WR-CALDESC:Eventos para AmCham Paraguay
REFRESH-INTERVAL;VALUE=DURATION:PT1H
X-Robots-Tag:noindex
X-PUBLISHED-TTL:PT1H
BEGIN:VTIMEZONE
TZID:Europe/Madrid
BEGIN:DAYLIGHT
TZOFFSETFROM:+0100
TZOFFSETTO:+0200
TZNAME:CEST
DTSTART:20240331T010000
END:DAYLIGHT
BEGIN:STANDARD
TZOFFSETFROM:+0200
TZOFFSETTO:+0100
TZNAME:CET
DTSTART:20241027T010000
END:STANDARD
BEGIN:DAYLIGHT
TZOFFSETFROM:+0100
TZOFFSETTO:+0200
TZNAME:CEST
DTSTART:20250330T010000
END:DAYLIGHT
BEGIN:STANDARD
TZOFFSETFROM:+0200
TZOFFSETTO:+0100
TZNAME:CET
DTSTART:20251026T010000
END:STANDARD
BEGIN:DAYLIGHT
TZOFFSETFROM:+0100
TZOFFSETTO:+0200
TZNAME:CEST
DTSTART:20260329T010000
END:DAYLIGHT
BEGIN:STANDARD
TZOFFSETFROM:+0200
TZOFFSETTO:+0100
TZNAME:CET
DTSTART:20261025T010000
END:STANDARD
BEGIN:DAYLIGHT
TZOFFSETFROM:+0100
TZOFFSETTO:+0200
TZNAME:CEST
DTSTART:20270328T010000
END:DAYLIGHT
BEGIN:STANDARD
TZOFFSETFROM:+0200
TZOFFSETTO:+0100
TZNAME:CET
DTSTART:20271031T010000
END:STANDARD
END:VTIMEZONE
BEGIN:VEVENT
DTSTART;VALUE=DATE:20250626
DTEND;VALUE=DATE:20250627
DTSTAMP:20260419T233928
CREATED:20250611T184433Z
LAST-MODIFIED:20250611T185203Z
UID:2785-1750896000-1750982399@amcham.com.py
SUMMARY:Conversatorio: Estrategia Nacional para el Fortalecimiento del Capital Humano
DESCRIPTION:INSCRÍBASE AQUÍ \n 
URL:https://amcham.com.py/evento/conversatorio-estrategia-nacional-para-el-fortalecimiento-del-capital-humano/
LOCATION:AmCham\, 25 de Mayo 2090 esq. Mayor Bullo\, Asunción\, Paraguay
CATEGORIES:Conversatorio
ATTACH;FMTTYPE=image/jpeg:https://amcham.com.py/wp-content/uploads/2025/06/GRAFICA-_-CONVERSATORIO-FORTALECIMIENTO-CAPITAL-HUMANO-scaled.jpeg
ORGANIZER;CN="AmCham":MAILTO:secretaria@pamcham.com.py
END:VEVENT
BEGIN:VEVENT
DTSTART;VALUE=DATE:20250705
DTEND;VALUE=DATE:20250706
DTSTAMP:20260419T233928
CREATED:20250520T014913Z
LAST-MODIFIED:20250701T140107Z
UID:2669-1751673600-1751759999@amcham.com.py
SUMMARY:Torneo de Golf Copa AmCham 2025
DESCRIPTION:Llevaremos a cabo una nueva edición de nuestro emblemático Torneo de Golf Copa AmCham 2025\, en el marco de las celebraciones por la Independencia de los Estados Unidos. \nA beneficio de los programas educativos de la Fundación AmCham. \nLugar\nAsunción Golf Club
URL:https://amcham.com.py/evento/torneo-de-golf-copa-amcham-2025/
LOCATION:Asunción Golf Club\, Asunción Golf Club\, Asunción\, Paraguay
CATEGORIES:Torneos
ATTACH;FMTTYPE=image/png:https://amcham.com.py/wp-content/uploads/2025/05/Captura-de-Pantalla-2025-05-19-a-las-22.51.13.png
ORGANIZER;CN="AmCham":MAILTO:secretaria@pamcham.com.py
END:VEVENT
BEGIN:VEVENT
DTSTART;VALUE=DATE:20250723
DTEND;VALUE=DATE:20250724
DTSTAMP:20260419T233928
CREATED:20250708T200323Z
LAST-MODIFIED:20250717T163855Z
UID:2815-1753228800-1753315199@amcham.com.py
SUMMARY:El Impacto de la Inteligencia Artificial en los Negocios
DESCRIPTION:INSCRIPCIONES
URL:https://amcham.com.py/evento/el-impacto-de-la-inteligencia-artificial-en-los-negocios/
LOCATION:AmCham\, 25 de Mayo 2090 esq. Mayor Bullo\, Asunción\, Paraguay
CATEGORIES:Conversatorio
ATTACH;FMTTYPE=image/jpeg:https://amcham.com.py/wp-content/uploads/2025/07/Flyer-Conv-El-Impacto-de-IA-en-los-Negocios.jpeg
ORGANIZER;CN="AmCham":MAILTO:secretaria@pamcham.com.py
END:VEVENT
BEGIN:VEVENT
DTSTART;VALUE=DATE:20250806
DTEND;VALUE=DATE:20250807
DTSTAMP:20260419T233928
CREATED:20250717T164345Z
LAST-MODIFIED:20250717T165011Z
UID:2829-1754438400-1754524799@amcham.com.py
SUMMARY:Bolsa de Valores en Paraguay: Resultados y Perspectivas
DESCRIPTION:INSCRIPCIONES
URL:https://amcham.com.py/evento/bolsa-de-valores-en-paraguay-resultados-y-perspectivas/
LOCATION:AmCham\, 25 de Mayo 2090 esq. Mayor Bullo\, Asunción\, Paraguay
CATEGORIES:Conversatorio
ATTACH;FMTTYPE=image/jpeg:https://amcham.com.py/wp-content/uploads/2025/07/FLYER-CONV-MERCADO-BURSATIL.jpeg
ORGANIZER;CN="AmCham":MAILTO:secretaria@pamcham.com.py
END:VEVENT
BEGIN:VEVENT
DTSTART;TZID=Europe/Madrid:20250826T180000
DTEND;TZID=Europe/Madrid:20250826T200000
DTSTAMP:20260419T233928
CREATED:20250819T163324Z
LAST-MODIFIED:20250819T200444Z
UID:2858-1756231200-1756238400@amcham.com.py
SUMMARY:After office: Paraguay en su inserción internacional
DESCRIPTION:INSCRIPCIONES \n  \n 
URL:https://amcham.com.py/evento/after-office-paraguay-en-su-insercion-internacional/
LOCATION:AmCham\, 25 de Mayo 2090 esq. Mayor Bullo\, Asunción\, Paraguay
CATEGORIES:Conversatorio
ATTACH;FMTTYPE=image/jpeg:https://amcham.com.py/wp-content/uploads/2025/08/WhatsApp-Image-2025-08-18-at-13.53.04-e1755623266597.jpeg
ORGANIZER;CN="AmCham":MAILTO:secretaria@pamcham.com.py
END:VEVENT
BEGIN:VEVENT
DTSTART;TZID=Europe/Madrid:20250911T180000
DTEND;TZID=Europe/Madrid:20250911T200000
DTSTAMP:20260419T233928
CREATED:20260210T130823Z
LAST-MODIFIED:20260210T131007Z
UID:2966-1757613600-1757620800@amcham.com.py
SUMMARY:After office: Defensa del Consumidor - Aspectos claves de la reforma normativa en Paraguay
DESCRIPTION:
URL:https://amcham.com.py/evento/after-office-defensa-del-consumidor-aspectos-claves-de-la-reforma-normativa-en-paraguay/
LOCATION:Edificio Citi Center\, Cruz del Chaco entre Av. Mcal. López y Quesada\, Asunción\, Paraguay
CATEGORIES:Conversatorio
ATTACH;FMTTYPE=image/jpeg:https://amcham.com.py/wp-content/uploads/2026/02/FLYER-DEFENSA-AL-CONSUMIDOR.jpeg
ORGANIZER;CN="AmCham":MAILTO:secretaria@pamcham.com.py
END:VEVENT
BEGIN:VEVENT
DTSTART;TZID=Europe/Madrid:20251127T083000
DTEND;TZID=Europe/Madrid:20251127T103000
DTSTAMP:20260419T233928
CREATED:20260210T132508Z
LAST-MODIFIED:20260210T132749Z
UID:2971-1764232200-1764239400@amcham.com.py
SUMMARY:Conversatorio: Entienda el momento y anticipe oportunidades - Tendencias que impactan
DESCRIPTION:
URL:https://amcham.com.py/evento/conversatorio-entienda-el-momento-y-anticipe-oportunidades-tendencias-que-impactan/
LOCATION:AmCham\, 25 de Mayo 2090 esq. Mayor Bullo\, Asunción\, Paraguay
CATEGORIES:Conversatorio
ATTACH;FMTTYPE=image/jpeg:https://amcham.com.py/wp-content/uploads/2026/02/FLYER.jpg
ORGANIZER;CN="AmCham":MAILTO:secretaria@pamcham.com.py
END:VEVENT
BEGIN:VEVENT
DTSTART;TZID=Europe/Madrid:20260303T083000
DTEND;TZID=Europe/Madrid:20260303T103000
DTSTAMP:20260419T233928
CREATED:20260216T151944Z
LAST-MODIFIED:20260216T152511Z
UID:2996-1772526600-1772533800@amcham.com.py
SUMMARY:Conversatorio | “Paraguay 2X: Un gran salto económico en 10 años”
DESCRIPTION:INSCRIPCIONES AQUÍ
URL:https://amcham.com.py/evento/conversatorio-paraguay-2x-un-gran-salto-economico-en-10-anos/
LOCATION:AmCham\, 25 de Mayo 2090 esq. Mayor Bullo\, Asunción\, Paraguay
CATEGORIES:Conversatorio
ATTACH;FMTTYPE=image/png:https://amcham.com.py/wp-content/uploads/2026/02/CONVERSATORIO-MINISTRO-MARCO-web@2x@2x-scaled.png
ORGANIZER;CN="AmCham":MAILTO:secretaria@pamcham.com.py
END:VEVENT
BEGIN:VEVENT
DTSTART;TZID=Europe/Madrid:20260311T180000
DTEND;TZID=Europe/Madrid:20260311T200000
DTSTAMP:20260419T233928
CREATED:20260310T123738Z
LAST-MODIFIED:20260310T123738Z
UID:3029-1773252000-1773259200@amcham.com.py
SUMMARY:After Office: Gobernanza que traspasa fronteras y genera valor
DESCRIPTION:Inscripciones aquí
URL:https://amcham.com.py/evento/after-office-gobernanza-que-traspasa-fronteras-y-genera-valor/
LOCATION:AmCham\, 25 de Mayo 2090 esq. Mayor Bullo\, Asunción\, Paraguay
CATEGORIES:After Office
ORGANIZER;CN="APEC":MAILTO:apecparaguay@gmail.com
END:VEVENT
END:VCALENDAR